BEGIN:VCALENDAR
VERSION:2.0
PRODID:-//wp-events-plugin.com//7.2.3.1//EN
TZID:America/Chicago
X-WR-TIMEZONE:America/Chicago
BEGIN:VEVENT
UID:65@ccr.nelson.wisc.edu
DTSTART;TZID=America/Chicago:20260428T123000
DTEND;TZID=America/Chicago:20260428T133000
DTSTAMP:20260407T193501Z
URL:https://ccr.nelson.wisc.edu/events/when-soil-meets-ai-revealing-ecosys
 tem-memory-through-big-data-and-machine-learning/
SUMMARY:When Soil Meets AI: Revealing Ecosystem Memory Through Big Data and
  Machine Learning
DESCRIPTION:Speaker: Yakun Zhang\, assistant professor\, Department of Soil
  and Environmental Sciences\, UW–Madison
CATEGORIES:CPEP
LOCATION:811 Atmospheric\, Oceanic and Space Sciences\, 1225 W. Dayton Stre
 et\, Madison\, United States
X-APPLE-STRUCTURED-LOCATION;VALUE=URI;X-ADDRESS=1225 W. Dayton Street\, Mad
 ison\, United States;X-APPLE-RADIUS=100;X-TITLE=811 Atmospheric\, Oceanic 
 and Space Sciences:geo:0,0
END:VEVENT
BEGIN:VTIMEZONE
TZID:America/Chicago
X-LIC-LOCATION:America/Chicago
BEGIN:DAYLIGHT
DTSTART:20260308T030000
TZOFFSETFROM:-0600
TZOFFSETTO:-0500
TZNAME:CDT
END:DAYLIGHT
END:VTIMEZONE
END:VCALENDAR